BEGIN:VCALENDAR
VERSION:2.0
PRODID:-//Washington Hosts Collaborative Alliance - ECPv6.15.20//NONSGML v1.0//EN
CALSCALE:GREGORIAN
METHOD:PUBLISH
X-WR-CALNAME:Washington Hosts Collaborative Alliance
X-ORIGINAL-URL:https://washingtonhosts.org
X-WR-CALDESC:Events for Washington Hosts Collaborative Alliance
REFRESH-INTERVAL;VALUE=DURATION:PT1H
X-Robots-Tag:noindex
X-PUBLISHED-TTL:PT1H
BEGIN:VTIMEZONE
TZID:America/Los_Angeles
BEGIN:DAYLIGHT
TZOFFSETFROM:-0800
TZOFFSETTO:-0700
TZNAME:PDT
DTSTART:20250309T100000
END:DAYLIGHT
BEGIN:STANDARD
TZOFFSETFROM:-0700
TZOFFSETTO:-0800
TZNAME:PST
DTSTART:20251102T090000
END:STANDARD
BEGIN:DAYLIGHT
TZOFFSETFROM:-0800
TZOFFSETTO:-0700
TZNAME:PDT
DTSTART:20260308T100000
END:DAYLIGHT
BEGIN:STANDARD
TZOFFSETFROM:-0700
TZOFFSETTO:-0800
TZNAME:PST
DTSTART:20261101T090000
END:STANDARD
BEGIN:DAYLIGHT
TZOFFSETFROM:-0800
TZOFFSETTO:-0700
TZNAME:PDT
DTSTART:20270314T100000
END:DAYLIGHT
BEGIN:STANDARD
TZOFFSETFROM:-0700
TZOFFSETTO:-0800
TZNAME:PST
DTSTART:20271107T090000
END:STANDARD
END:VTIMEZONE
BEGIN:VEVENT
DTSTART;TZID=America/Los_Angeles:20260211T120000
DTEND;TZID=America/Los_Angeles:20260211T130000
DTSTAMP:20260423T145143
CREATED:20260206T230454Z
LAST-MODIFIED:20260206T230454Z
UID:10000001-1770811200-1770814800@washingtonhosts.org
SUMMARY:The View From Olympia: A Mid-Season Update for Hosts
DESCRIPTION:Join us for a timely mid-session update on what’s happening in Olympia—and what it means for short-term rental hosts. During this webinar\, our lobbyist will share firsthand insights from the legislature\, including where HB 2559 stands\, what we’re hearing directly from lawmakers\, and what to expect in the weeks ahead. The conversation will also offer context on how this advocacy work happens\, the role hosts play in shaping effective policy engagement\, and opportunities to stay involved and connect with elected officials. \nREGISTER NOW >> 
URL:https://washingtonhosts.org/event/the-view-from-olympia-a-mid-season-update-for-hosts/
CATEGORIES:Alliance Event,Virtual Event
ATTACH;FMTTYPE=image/jpeg:https://washingtonhosts.org/wp-content/uploads/2026/02/Washington-Hosts-Feb-11.jpg
END:VEVENT
END:VCALENDAR